{"text_format":"1","workbook":"xlsx","n_sheets":2,"sheets":["converer","country"],"not_rendered":{"charts":0,"images":0,"macros":1,"external_links":0,"defined_names":1,"comments":0,"pivot_tables":0},"unopened":[],"bounds":{"document_bytes":16777216,"sheet_cells":100000,"rows_first":2000,"rows_last":500,"rows_between":2000,"halvings":0,"cell_chars":16384,"cell_head_chars":4096},"cells_cut":0,"cells_raw":0,"read":"whole","date_system":"1900"}

{"sheet":"converer","index":0,"n_rows":24,"n_cols":10,"rows_kept":24,"cut":false,"hidden":false,"merged":[[1,5,2,5]]}
[]
[null,"Select a country to convert","Date Time\n(mm/dd/yyyy hh:mm)","Day","GMT",null,"Location","Local Date Time","Day","GMT"]
[null,"Hong Kong","2016-07-31T20:02:30",{"$f":"IF(B3=\"\",\"\",TEXT(C3,\"dddd\"))","v":"Sunday"},{"$f":"IFERROR(VLOOKUP(B3,country!$A:$B,2,0),\"\")","v":8},null,"Hong Kong",{"$f":"IFERROR($C$3+(VLOOKUP(G3,country!$A$2:$B$26,2,0)-VLOOKUP($B$3,country!$A$2:$B$27,2,0))/24,\"\")","v":"2016-07-31T20:02:30"},{"$f":"TEXT(H3,\"dddd\")","v":"Sunday"},{"$f":"IFERROR(VLOOKUP(G3,country!$A:$B,2,0),\"\")","v":8}]
[null,null,null,null,null,null,"Thailand",{"$f":"IFERROR($C$3+(VLOOKUP(G4,country!$A$2:$B$26,2,0)-VLOOKUP($B$3,country!$A$2:$B$27,2,0))/24,\"\")","v":"2016-07-31T19:02:30"},{"$f":"TEXT(H4,\"dddd\")","v":"Sunday"},{"$f":"IFERROR(VLOOKUP(G4,country!$A:$B,2,0),\"\")","v":7}]
[null,null,null,null,null,null,"Singapore",{"$f":"IFERROR($C$3+(VLOOKUP(G5,country!$A$2:$B$26,2,0)-VLOOKUP($B$3,country!$A$2:$B$27,2,0))/24,\"\")","v":"2016-07-31T20:02:30"},"Sunday",{"$f":"IFERROR(VLOOKUP(G5,country!$A:$B,2,0),\"\")","v":8}]
[null,null,null,null,null,null,"USA - lowa - Cedar Rapids",{"$f":"IFERROR($C$3+(VLOOKUP(G6,country!$A$2:$B$26,2,0)-VLOOKUP($B$3,country!$A$2:$B$27,2,0))/24,\"\")","v":"2016-07-31T07:02:30"},"Sunday",{"$f":"IFERROR(VLOOKUP(G6,country!$A:$B,2,0),\"\")","v":-5}]
[null,null,null,null,null,null,null,{"$f":"IFERROR($C$3+(VLOOKUP(G7,country!$A$2:$B$26,2,0)-VLOOKUP($B$3,country!$A$2:$B$27,2,0))/24,\"\")","v":""},"",{"$f":"IFERROR(VLOOKUP(G7,country!$A:$B,2,0),\"\")","v":""}]
[null,null,null,null,null,null,null,{"$f":"IFERROR($C$3+(VLOOKUP(G8,country!$A$2:$B$26,2,0)-VLOOKUP($B$3,country!$A$2:$B$27,2,0))/24,\"\")","v":""},"",{"$f":"IFERROR(VLOOKUP(G8,country!$A:$B,2,0),\"\")","v":""}]
[null,null,null,null,null,null,null,{"$f":"IFERROR($C$3+(VLOOKUP(G9,country!$A$2:$B$26,2,0)-VLOOKUP($B$3,country!$A$2:$B$27,2,0))/24,\"\")","v":""},"",{"$f":"IFERROR(VLOOKUP(G9,country!$A:$B,2,0),\"\")","v":""}]
[null,null,null,null,null,null,null,{"$f":"IFERROR($C$3+(VLOOKUP(G10,country!$A$2:$B$26,2,0)-VLOOKUP($B$3,country!$A$2:$B$27,2,0))/24,\"\")","v":""},"",{"$f":"IFERROR(VLOOKUP(G10,country!$A:$B,2,0),\"\")","v":""}]
[null,null,null,null,null,null,null,{"$f":"IFERROR($C$3+(VLOOKUP(G11,country!$A$2:$B$26,2,0)-VLOOKUP($B$3,country!$A$2:$B$27,2,0))/24,\"\")","v":""},"",{"$f":"IFERROR(VLOOKUP(G11,country!$A:$B,2,0),\"\")","v":""}]
[null,null,null,null,null,null,null,{"$f":"IFERROR($C$3+(VLOOKUP(G12,country!$A$2:$B$26,2,0)-VLOOKUP($B$3,country!$A$2:$B$27,2,0))/24,\"\")","v":""},"",{"$f":"IFERROR(VLOOKUP(G12,country!$A:$B,2,0),\"\")","v":""}]
[null,null,null,null,null,null,null,{"$f":"IFERROR($C$3+(VLOOKUP(G13,country!$A$2:$B$26,2,0)-VLOOKUP($B$3,country!$A$2:$B$27,2,0))/24,\"\")","v":""},"",{"$f":"IFERROR(VLOOKUP(G13,country!$A:$B,2,0),\"\")","v":""}]
[null,null,null,null,null,null,null,{"$f":"IFERROR($C$3+(VLOOKUP(G14,country!$A$2:$B$26,2,0)-VLOOKUP($B$3,country!$A$2:$B$27,2,0))/24,\"\")","v":""},"",{"$f":"IFERROR(VLOOKUP(G14,country!$A:$B,2,0),\"\")","v":""}]
[null,null,null,null,null,null,null,{"$f":"IFERROR($C$3+(VLOOKUP(G15,country!$A$2:$B$26,2,0)-VLOOKUP($B$3,country!$A$2:$B$27,2,0))/24,\"\")","v":""},"",{"$f":"IFERROR(VLOOKUP(G15,country!$A:$B,2,0),\"\")","v":""}]
[null,null,null,null,null,null,null,{"$f":"IFERROR($C$3+(VLOOKUP(G16,country!$A$2:$B$26,2,0)-VLOOKUP($B$3,country!$A$2:$B$27,2,0))/24,\"\")","v":""},"",{"$f":"IFERROR(VLOOKUP(G16,country!$A:$B,2,0),\"\")","v":""}]
[null,null,null,null,null,null,null,{"$f":"IFERROR($C$3+(VLOOKUP(G17,country!$A$2:$B$26,2,0)-VLOOKUP($B$3,country!$A$2:$B$27,2,0))/24,\"\")","v":""},"",{"$f":"IFERROR(VLOOKUP(G17,country!$A:$B,2,0),\"\")","v":""}]
[null,null,null,null,null,null,null,{"$f":"IFERROR($C$3+(VLOOKUP(G18,country!$A$2:$B$26,2,0)-VLOOKUP($B$3,country!$A$2:$B$27,2,0))/24,\"\")","v":""},"",{"$f":"IFERROR(VLOOKUP(G18,country!$A:$B,2,0),\"\")","v":""}]
[null,null,null,null,null,null,null,{"$f":"IFERROR($C$3+(VLOOKUP(G19,country!$A$2:$B$26,2,0)-VLOOKUP($B$3,country!$A$2:$B$27,2,0))/24,\"\")","v":""},"",{"$f":"IFERROR(VLOOKUP(G19,country!$A:$B,2,0),\"\")","v":""}]
[null,null,null,null,null,null,null,{"$f":"IFERROR($C$3+(VLOOKUP(G20,country!$A$2:$B$26,2,0)-VLOOKUP($B$3,country!$A$2:$B$27,2,0))/24,\"\")","v":""},"",{"$f":"IFERROR(VLOOKUP(G20,country!$A:$B,2,0),\"\")","v":""}]
[null,null,null,null,null,null,null,{"$f":"IFERROR($C$3+(VLOOKUP(G21,country!$A$2:$B$26,2,0)-VLOOKUP($B$3,country!$A$2:$B$27,2,0))/24,\"\")","v":""},"",{"$f":"IFERROR(VLOOKUP(G21,country!$A:$B,2,0),\"\")","v":""}]
[null,null,null,null,null,null,null,{"$f":"IFERROR($C$3+(VLOOKUP(G22,country!$A$2:$B$26,2,0)-VLOOKUP($B$3,country!$A$2:$B$27,2,0))/24,\"\")","v":""},"",{"$f":"IFERROR(VLOOKUP(G22,country!$A:$B,2,0),\"\")","v":""}]
[null,null,null,null,null,null,null,{"$f":"IFERROR($C$3+(VLOOKUP(G23,country!$A$2:$B$26,2,0)-VLOOKUP($B$3,country!$A$2:$B$27,2,0))/24,\"\")","v":""},"",{"$f":"IFERROR(VLOOKUP(G23,country!$A:$B,2,0),\"\")","v":""}]
[null,null,null,null,null,null,null,{"$f":"IFERROR($C$3+(VLOOKUP(G24,country!$A$2:$B$26,2,0)-VLOOKUP($B$3,country!$A$2:$B$27,2,0))/24,\"\")","v":""},"",{"$f":"IFERROR(VLOOKUP(G24,country!$A:$B,2,0),\"\")","v":""}]

{"sheet":"country","index":1,"n_rows":12,"n_cols":2,"rows_kept":12,"cut":false,"hidden":false,"merged":[]}
["Country","GMT"]
["Hong Kong",8]
["Thailand",7]
["Japan",9]
["Indonesia",7]
["Singapore",8]
["UK - London",1]
["USA - lowa - Cedar Rapids",-5]
["USA - New York",-4]
["Netherlands - Amsterdam",2]
["Australia - Sydney",10]
["India - Mumbai",5.5]