{"text_format":"1","workbook":"xlsx","n_sheets":2,"sheets":["converter","config"],"not_rendered":{"charts":0,"images":0,"macros":1,"external_links":0,"defined_names":2,"comments":0,"pivot_tables":0},"unopened":[],"bounds":{"document_bytes":16777216,"sheet_cells":100000,"rows_first":2000,"rows_last":500,"rows_between":2000,"halvings":0,"cell_chars":16384,"cell_head_chars":4096},"cells_cut":0,"cells_raw":0,"read":"whole","date_system":"1900"}

{"sheet":"converter","index":0,"n_rows":24,"n_cols":10,"rows_kept":24,"cut":false,"hidden":false,"merged":[[1,5,2,5]]}
[]
[null,"Country","Amount","Currency Code","Currency Name",null,"Country","Amount","Currency Code","Currency Name"]
[null,"Hong Kong",1000,{"$f":"IF(B3=\"\",\"\",VLOOKUP(B3,config!$A:$B,2,0))","v":"HKD"},{"$f":"IF(D3=\"\",\"\",VLOOKUP(D3,config!$B:$C,2,0))","v":"Hong Kong Dollar"},null,"Singapore",{"$f":"IFERROR(C3*VLOOKUP(I3,config!$B:$D,3,0)/VLOOKUP(D3,config!$B:$D,3,0),\"\")","v":172.96266223304852},{"$f":"IF(G3=\"\",\"\",IFERROR(VLOOKUP(G3,config!$A:$B,2,0),\"\"))","v":"SGD"},{"$f":"IFERROR(VLOOKUP(I3,config!$B:$C,2,0),\"\")","v":"Singapore Dollar"}]
[null,"United States",1000,{"$f":"IF(B4=\"\",\"\",VLOOKUP(B4,config!$A:$B,2,0))","v":"USD"},{"$f":"IF(D4=\"\",\"\",VLOOKUP(D4,config!$B:$C,2,0))","v":"US Dollar"},null,"Thailand",{"$f":"IFERROR(C4*VLOOKUP(I4,config!$B:$D,3,0)/VLOOKUP(D4,config!$B:$D,3,0),\"\")","v":34980},{"$f":"IF(G4=\"\",\"\",IFERROR(VLOOKUP(G4,config!$A:$B,2,0),\"\"))","v":"THB"},{"$f":"IFERROR(VLOOKUP(I4,config!$B:$C,2,0),\"\")","v":"Baht"}]
[null,"United States",1000,{"$f":"IF(B5=\"\",\"\",VLOOKUP(B5,config!$A:$B,2,0))","v":"USD"},{"$f":"IF(D5=\"\",\"\",VLOOKUP(D5,config!$B:$C,2,0))","v":"US Dollar"},null,"United Kingdom",{"$f":"IFERROR(C5*VLOOKUP(I5,config!$B:$D,3,0)/VLOOKUP(D5,config!$B:$D,3,0),\"\")","v":750},{"$f":"IF(G5=\"\",\"\",IFERROR(VLOOKUP(G5,config!$A:$B,2,0),\"\"))","v":"GBP"},{"$f":"IFERROR(VLOOKUP(I5,config!$B:$C,2,0),\"\")","v":"Pound Sterling"}]
[null,null,null,{"$f":"IF(B6=\"\",\"\",VLOOKUP(B6,config!$A:$B,2,0))","v":""},{"$f":"IF(D6=\"\",\"\",VLOOKUP(D6,config!$B:$C,2,0))","v":""},null,null,{"$f":"IFERROR(C6*VLOOKUP(I6,config!$B:$D,3,0)/VLOOKUP(D6,config!$B:$D,3,0),\"\")","v":""},{"$f":"IF(G6=\"\",\"\",IFERROR(VLOOKUP(G6,config!$A:$B,2,0),\"\"))","v":""},{"$f":"IFERROR(VLOOKUP(I6,config!$B:$C,2,0),\"\")","v":""}]
[null,null,null,{"$f":"IF(B7=\"\",\"\",VLOOKUP(B7,config!$A:$B,2,0))","v":""},{"$f":"IF(D7=\"\",\"\",VLOOKUP(D7,config!$B:$C,2,0))","v":""},null,null,{"$f":"IFERROR(C7*VLOOKUP(I7,config!$B:$D,3,0)/VLOOKUP(D7,config!$B:$D,3,0),\"\")","v":""},{"$f":"IF(G7=\"\",\"\",IFERROR(VLOOKUP(G7,config!$A:$B,2,0),\"\"))","v":""},{"$f":"IFERROR(VLOOKUP(I7,config!$B:$C,2,0),\"\")","v":""}]
[null,null,null,{"$f":"IF(B8=\"\",\"\",VLOOKUP(B8,config!$A:$B,2,0))","v":""},{"$f":"IF(D8=\"\",\"\",VLOOKUP(D8,config!$B:$C,2,0))","v":""},null,null,{"$f":"IFERROR(C8*VLOOKUP(I8,config!$B:$D,3,0)/VLOOKUP(D8,config!$B:$D,3,0),\"\")","v":""},{"$f":"IF(G8=\"\",\"\",IFERROR(VLOOKUP(G8,config!$A:$B,2,0),\"\"))","v":""},{"$f":"IFERROR(VLOOKUP(I8,config!$B:$C,2,0),\"\")","v":""}]
[null,null,null,{"$f":"IF(B9=\"\",\"\",VLOOKUP(B9,config!$A:$B,2,0))","v":""},{"$f":"IF(D9=\"\",\"\",VLOOKUP(D9,config!$B:$C,2,0))","v":""},null,null,{"$f":"IFERROR(C9*VLOOKUP(I9,config!$B:$D,3,0)/VLOOKUP(D9,config!$B:$D,3,0),\"\")","v":""},{"$f":"IF(G9=\"\",\"\",IFERROR(VLOOKUP(G9,config!$A:$B,2,0),\"\"))","v":""},{"$f":"IFERROR(VLOOKUP(I9,config!$B:$C,2,0),\"\")","v":""}]
[null,null,null,{"$f":"IF(B10=\"\",\"\",VLOOKUP(B10,config!$A:$B,2,0))","v":""},{"$f":"IF(D10=\"\",\"\",VLOOKUP(D10,config!$B:$C,2,0))","v":""},null,null,{"$f":"IFERROR(C10*VLOOKUP(I10,config!$B:$D,3,0)/VLOOKUP(D10,config!$B:$D,3,0),\"\")","v":""},{"$f":"IF(G10=\"\",\"\",IFERROR(VLOOKUP(G10,config!$A:$B,2,0),\"\"))","v":""},{"$f":"IFERROR(VLOOKUP(I10,config!$B:$C,2,0),\"\")","v":""}]
[null,null,null,{"$f":"IF(B11=\"\",\"\",VLOOKUP(B11,config!$A:$B,2,0))","v":""},{"$f":"IF(D11=\"\",\"\",VLOOKUP(D11,config!$B:$C,2,0))","v":""},null,null,{"$f":"IFERROR(C11*VLOOKUP(I11,config!$B:$D,3,0)/VLOOKUP(D11,config!$B:$D,3,0),\"\")","v":""},{"$f":"IF(G11=\"\",\"\",IFERROR(VLOOKUP(G11,config!$A:$B,2,0),\"\"))","v":""},{"$f":"IFERROR(VLOOKUP(I11,config!$B:$C,2,0),\"\")","v":""}]
[null,null,null,{"$f":"IF(B12=\"\",\"\",VLOOKUP(B12,config!$A:$B,2,0))","v":""},{"$f":"IF(D12=\"\",\"\",VLOOKUP(D12,config!$B:$C,2,0))","v":""},null,null,{"$f":"IFERROR(C12*VLOOKUP(I12,config!$B:$D,3,0)/VLOOKUP(D12,config!$B:$D,3,0),\"\")","v":""},{"$f":"IF(G12=\"\",\"\",IFERROR(VLOOKUP(G12,config!$A:$B,2,0),\"\"))","v":""},{"$f":"IFERROR(VLOOKUP(I12,config!$B:$C,2,0),\"\")","v":""}]
[null,null,null,{"$f":"IF(B13=\"\",\"\",VLOOKUP(B13,config!$A:$B,2,0))","v":""},{"$f":"IF(D13=\"\",\"\",VLOOKUP(D13,config!$B:$C,2,0))","v":""},null,null,{"$f":"IFERROR(C13*VLOOKUP(I13,config!$B:$D,3,0)/VLOOKUP(D13,config!$B:$D,3,0),\"\")","v":""},{"$f":"IF(G13=\"\",\"\",IFERROR(VLOOKUP(G13,config!$A:$B,2,0),\"\"))","v":""},{"$f":"IFERROR(VLOOKUP(I13,config!$B:$C,2,0),\"\")","v":""}]
[null,null,null,{"$f":"IF(B14=\"\",\"\",VLOOKUP(B14,config!$A:$B,2,0))","v":""},{"$f":"IF(D14=\"\",\"\",VLOOKUP(D14,config!$B:$C,2,0))","v":""},null,null,{"$f":"IFERROR(C14*VLOOKUP(I14,config!$B:$D,3,0)/VLOOKUP(D14,config!$B:$D,3,0),\"\")","v":""},{"$f":"IF(G14=\"\",\"\",IFERROR(VLOOKUP(G14,config!$A:$B,2,0),\"\"))","v":""},{"$f":"IFERROR(VLOOKUP(I14,config!$B:$C,2,0),\"\")","v":""}]
[null,null,null,{"$f":"IF(B15=\"\",\"\",VLOOKUP(B15,config!$A:$B,2,0))","v":""},{"$f":"IF(D15=\"\",\"\",VLOOKUP(D15,config!$B:$C,2,0))","v":""},null,null,{"$f":"IFERROR(C15*VLOOKUP(I15,config!$B:$D,3,0)/VLOOKUP(D15,config!$B:$D,3,0),\"\")","v":""},{"$f":"IF(G15=\"\",\"\",IFERROR(VLOOKUP(G15,config!$A:$B,2,0),\"\"))","v":""},{"$f":"IFERROR(VLOOKUP(I15,config!$B:$C,2,0),\"\")","v":""}]
[null,null,null,{"$f":"IF(B16=\"\",\"\",VLOOKUP(B16,config!$A:$B,2,0))","v":""},{"$f":"IF(D16=\"\",\"\",VLOOKUP(D16,config!$B:$C,2,0))","v":""},null,null,{"$f":"IFERROR(C16*VLOOKUP(I16,config!$B:$D,3,0)/VLOOKUP(D16,config!$B:$D,3,0),\"\")","v":""},{"$f":"IF(G16=\"\",\"\",IFERROR(VLOOKUP(G16,config!$A:$B,2,0),\"\"))","v":""},{"$f":"IFERROR(VLOOKUP(I16,config!$B:$C,2,0),\"\")","v":""}]
[null,null,null,{"$f":"IF(B17=\"\",\"\",VLOOKUP(B17,config!$A:$B,2,0))","v":""},{"$f":"IF(D17=\"\",\"\",VLOOKUP(D17,config!$B:$C,2,0))","v":""},null,null,{"$f":"IFERROR(C17*VLOOKUP(I17,config!$B:$D,3,0)/VLOOKUP(D17,config!$B:$D,3,0),\"\")","v":""},{"$f":"IF(G17=\"\",\"\",IFERROR(VLOOKUP(G17,config!$A:$B,2,0),\"\"))","v":""},{"$f":"IFERROR(VLOOKUP(I17,config!$B:$C,2,0),\"\")","v":""}]
[null,null,null,{"$f":"IF(B18=\"\",\"\",VLOOKUP(B18,config!$A:$B,2,0))","v":""},{"$f":"IF(D18=\"\",\"\",VLOOKUP(D18,config!$B:$C,2,0))","v":""},null,null,{"$f":"IFERROR(C18*VLOOKUP(I18,config!$B:$D,3,0)/VLOOKUP(D18,config!$B:$D,3,0),\"\")","v":""},{"$f":"IF(G18=\"\",\"\",IFERROR(VLOOKUP(G18,config!$A:$B,2,0),\"\"))","v":""},{"$f":"IFERROR(VLOOKUP(I18,config!$B:$C,2,0),\"\")","v":""}]
[null,null,null,{"$f":"IF(B19=\"\",\"\",VLOOKUP(B19,config!$A:$B,2,0))","v":""},{"$f":"IF(D19=\"\",\"\",VLOOKUP(D19,config!$B:$C,2,0))","v":""},null,null,{"$f":"IFERROR(C19*VLOOKUP(I19,config!$B:$D,3,0)/VLOOKUP(D19,config!$B:$D,3,0),\"\")","v":""},{"$f":"IF(G19=\"\",\"\",IFERROR(VLOOKUP(G19,config!$A:$B,2,0),\"\"))","v":""},{"$f":"IFERROR(VLOOKUP(I19,config!$B:$C,2,0),\"\")","v":""}]
[null,null,null,{"$f":"IF(B20=\"\",\"\",VLOOKUP(B20,config!$A:$B,2,0))","v":""},{"$f":"IF(D20=\"\",\"\",VLOOKUP(D20,config!$B:$C,2,0))","v":""},null,null,{"$f":"IFERROR(C20*VLOOKUP(I20,config!$B:$D,3,0)/VLOOKUP(D20,config!$B:$D,3,0),\"\")","v":""},{"$f":"IF(G20=\"\",\"\",IFERROR(VLOOKUP(G20,config!$A:$B,2,0),\"\"))","v":""},{"$f":"IFERROR(VLOOKUP(I20,config!$B:$C,2,0),\"\")","v":""}]
[null,null,null,{"$f":"IF(B21=\"\",\"\",VLOOKUP(B21,config!$A:$B,2,0))","v":""},{"$f":"IF(D21=\"\",\"\",VLOOKUP(D21,config!$B:$C,2,0))","v":""},null,null,{"$f":"IFERROR(C21*VLOOKUP(I21,config!$B:$D,3,0)/VLOOKUP(D21,config!$B:$D,3,0),\"\")","v":""},{"$f":"IF(G21=\"\",\"\",IFERROR(VLOOKUP(G21,config!$A:$B,2,0),\"\"))","v":""},{"$f":"IFERROR(VLOOKUP(I21,config!$B:$C,2,0),\"\")","v":""}]
[null,null,null,{"$f":"IF(B22=\"\",\"\",VLOOKUP(B22,config!$A:$B,2,0))","v":""},{"$f":"IF(D22=\"\",\"\",VLOOKUP(D22,config!$B:$C,2,0))","v":""},null,null,{"$f":"IFERROR(C22*VLOOKUP(I22,config!$B:$D,3,0)/VLOOKUP(D22,config!$B:$D,3,0),\"\")","v":""},{"$f":"IF(G22=\"\",\"\",IFERROR(VLOOKUP(G22,config!$A:$B,2,0),\"\"))","v":""},{"$f":"IFERROR(VLOOKUP(I22,config!$B:$C,2,0),\"\")","v":""}]
[null,null,null,{"$f":"IF(B23=\"\",\"\",VLOOKUP(B23,config!$A:$B,2,0))","v":""},{"$f":"IF(D23=\"\",\"\",VLOOKUP(D23,config!$B:$C,2,0))","v":""},null,null,{"$f":"IFERROR(C23*VLOOKUP(I23,config!$B:$D,3,0)/VLOOKUP(D23,config!$B:$D,3,0),\"\")","v":""},{"$f":"IF(G23=\"\",\"\",IFERROR(VLOOKUP(G23,config!$A:$B,2,0),\"\"))","v":""},{"$f":"IFERROR(VLOOKUP(I23,config!$B:$C,2,0),\"\")","v":""}]
[null,null,null,{"$f":"IF(B24=\"\",\"\",VLOOKUP(B24,config!$A:$B,2,0))","v":""},{"$f":"IF(D24=\"\",\"\",VLOOKUP(D24,config!$B:$C,2,0))","v":""},null,null,{"$f":"IFERROR(C24*VLOOKUP(I24,config!$B:$D,3,0)/VLOOKUP(D24,config!$B:$D,3,0),\"\")","v":""},{"$f":"IF(G24=\"\",\"\",IFERROR(VLOOKUP(G24,config!$A:$B,2,0),\"\"))","v":""},{"$f":"IFERROR(VLOOKUP(I24,config!$B:$C,2,0),\"\")","v":""}]

{"sheet":"config","index":1,"n_rows":243,"n_cols":4,"rows_kept":243,"cut":false,"hidden":false,"merged":[]}
["Country","Currency Code","Currency Name","Currency per USD"]
["Afghanistan","AFN","Afghani",68.75]
["Aland Islands","EUR","Euro",0.89459999999999995]
["Albania","ALL","Lek",123.84]
["Algeria","DZD","Algerian Dinar",109.29]
["American Samoa","USD","US Dollar",1]
["Andorra","EUR","Euro",0.89459999999999995]
["Angola","AOA","Kwanza",165.06299999999999]
["Anguilla","XCD","East Caribbean Dollar",2.7]
["Antigua and Barbuda","XCD","East Caribbean Dollar",2.7]
["Argentina","ARS","Argentine Peso",14.875]
["Armenia","AMD","Armenian Dram",476.09]
["Aruba","AWG","Aruban Florin",1.79]
["Australia","AUD","Australian Dollar",1.3171999999999999]
["Austria","EUR","Euro",0.89459999999999995]
["Azerbaijan","AZN","Azerbaijanian Manat",1.591]
["Bahamas","BSD","Bahamian Dollar",1]
["Bahrain","BHD","Bahraini Dinar",0.37709999999999999]
["Bangladesh","BDT","Taka",78.349999999999994]
["Barbados","BBD","Barbados Dollar",2]
["Belarus","BYR","Belarusian Ruble",20020]
["Belgium","EUR","Euro",0.89459999999999995]
["Belize","BZD","Belize Dollar",1.98]
["Benin","XOF","CFA Franc BCEAO",586.65]
["Bhutan","BTN","Ngultrum",66.724999999999994]
["Bolivia, Plurinational State of","BOB","Boliviano",6.86]
["Bonaire, Sint Eustatius and Saba","USD","US Dollar",1]
["Bosnia and Herzegovina","BAM","Convertible Marks",1.7531000000000001]
["Botswana","BWP","Pula",10.599500000000001]
["Bouvet Island","NOK","Norwegian Krone",8.4306999999999999]
["Brazil","BRL","Brazilian Real",3.2498]
["British Indian Ocean Territory","USD","US Dollar",1]
["Brunei Darussalam","BND","Brunei Dollar",1.3420000000000001]
["Bulgaria","BGN","Bulgarian Lev",1.7463]
["Burkina Faso","XOF","CFA Franc BCEAO",586.65]
["Burundi","BIF","Burundi Franc",1647.84]
["Cabo Verde","CVE","Cabo Verde Escudo",98.6]
["Cambodia","KHR","Riel",4068.5]
["Cameroon","XAF","CFA Franc BEAC",586.63]
["Canada","CAD","Canadian Dollar",1.3072999999999999]
["Cayman Islands","KYD","Cayman Islands Dollar",0.82]
["Central African Republic","XAF","CFA Franc BEAC",586.63]
["Chad","XAF","CFA Franc BEAC",586.63]
["Chile","CLP","Chilean Peso",656.56]
["China","CNY","Yuan Renminbi",6.6315]
["Christmas Island","AUD","Australian Dollar",1.3171999999999999]
["Cocos (Keeling) Islands","AUD","Australian Dollar",1.3171999999999999]
["Colombia","COP","Colombian Peso",3122.2]
["Comoros","KMF","Comoro Franc",440.5]
["Congo","XAF","CFA Franc BEAC",586.63]
["Congo, Democratic Republic of the","CDF","Franc Congolais",961]
["Cook Islands","NZD","New Zealand Dollar",1.3966000000000001]
["Costa Rica","CRC","Costa Rican Colon",543.17999999999995]
["Côte D'Ivoire","XOF","CFA Franc BCEAO",586.65]
["Croatia","HRK","Croatian Kuna",6.6680999999999999]
["Cuba","CUP","Cuban Peso",1]
["Curaço","ANG","Netherlands Antillean Guilder",1.77]
["Cyprus","CYP","Cyprus Pound",0.51959999999999995]
["Czech Republic","CZK","Czech Koruna",24.1919]
["Denmark","DKK","Danish Krone",6.6574]
["Djibouti","DJF","Djibouti Franc",176.6]
["Dominica","XCD","East Caribbean Dollar",2.7]
["Dominican Republic","DOP","Dominican Peso",45.78]
["Ecuador","USD","US Dollar",1]
["Egypt","EGP","Egyptian Pound",8.8798999999999992]
["El Salvador","SVC","El Salvador Colon",8.7222000000000008]
["Equatorial Guinea","XAF","CFA Franc BEAC",586.63]
["Eritrea","ERN","Nakfa",15.73]
["Estonia","EUR","Euro",0.89459999999999995]
["Ethiopia","ETB","Ethiopian Birr",21.81]
["European Economic and Monetary Union area","EUR","Euro",0.89459999999999995]
["Falkland Islands (Malvinas)","FKP","Falkland Islands Pound",0.74819999999999998]
["Faroe Islands","DKK","Danish Krone",6.6584000000000003]
["Fiji","FJD","Fiji Dollar",2.0680999999999998]
["Finland","EUR","Euro",0.89459999999999995]
["France","EUR","Euro",0.89459999999999995]
["French Guiana","EUR","Euro",0.89459999999999995]
["French Polynesia","XPF","CFP Franc",106.15]
["French Southern Territories","EUR","Euro",0.89459999999999995]
["Gabon","XAF","CFA Franc BEAC",586.63]
["Gambia","GMD","Dalasi",41.85]
["Georgia","GEL","Lari",2.3464999999999998]
["Germany","EUR","Euro",0.89459999999999995]
["Ghana","GHS","Ghana Cedi",3.9495]
["Gibraltar","GIP","Gibraltar Pound",0.74850000000000005]
["Greece","EUR","Euro",0.89459999999999995]
["Greenland","DKK","Danish Krone",6.6584000000000003]
["Grenada","XCD","East Caribbean Dollar",2.7]
["Guadeloupe","EUR","Euro",0.89459999999999995]
["Guam","USD","US Dollar",1]
["Guatemala","GTQ","Quetzal",7.5495000000000001]
["Guernsey","GBP","Pound Sterling",0.75]
["Guinea","GNF","Guinea Franc",8980]
["Guyana","GYD","Guyana Dollar",204.79]
["Haiti","HTG","Gourde",63.76]
["Heard Island and McDonald Islands","AUD","Australian Dollar",1.3171999999999999]
["Holy See (Vatican City State)","EUR","Euro",0.89459999999999995]
["Honduras","HNL","Lempira",22.82]
["Hong Kong","HKD","Hong Kong Dollar",7.7588999999999997]
["Hungary","HUF","Forint",278.47000000000003]
["Iceland","ISK","Iceland Krona",118.14]
["India","INR","Indian Rupee",66.891000000000005]
["Indonesia","IDR","Rupiah",13120]
["Iran, Islamic Republic Of","IRR","Iranian Rial",30063]
["Iraq","IQD","Iraqi Dinar",1168]
["Ireland","EUR","Euro",0.89459999999999995]
["Isle of Man","GBP","Pound Sterling",0.75]
["Israel","ILS","New Israeli Sheqel",3.8260000000000001]
["Italy","EUR","Euro",0.89500000000000002]
["Jamaica","JMD","Jamaican Dollar",126.25]
["Japan","JPY","Yen",101.32299999999999]
["Jersey","GBP","Pound Sterling",0.74990000000000001]
["Jordan","JOD","Jordanian Dinar",0.7077]
["Kazakhstan","KZT","Tenge",354.22]
["Kenya","KES","Kenyan Shilling",101.35]
["Kiribati","AUD","Australian Dollar",1.3169]
["Korea, Democratic People's Republic of","KPW","North Korean Won",900]
["Korea, Republic of","KRW","Won",1116.8]
["Kuwait","KWD","Kuwaiti Dinar",0.30159999999999998]
["Kyrgyzstan","KGS","Som",68.25]
["Lao People's Democratic Republic","LAK","Kip",8079]
["Latvia","EUR","Euro",0.89500000000000002]
["Lebanon","LBP","Lebanese Pound",1505.7]
["Lesotho","LSL","Loti",13.95]
["Liberia","LRD","Liberian Dollar",90]
["Liechtenstein","CHF","Swiss Franc",0.97160000000000002]
["Lithuania","LTL","Lithuanian Litas",3.0487000000000002]
["Luxembourg","EUR","Euro",0.89500000000000002]
["Macao","MOP","Pataca",7.9912999999999998]
["Macedonia, The Former Yugoslav Republic of","MKD","Denar",54.79]
["Madagascar","MGA","Malagasy Ariary",2963]
["Malawi","MWK","Kwacha",711.55]
["Malaysia","MYR","Malaysian Ringgit",4.056]
["Maldives","MVR","Rufiyaa",15.05]
["Mali","XOF","CFA Franc BCEAO",586.65]
["Malta","EUR","Euro",0.89500000000000002]
["Marshall Islands","USD","US Dollar",1]
["Martinique","EUR","Euro",0.89500000000000002]
["Mauritania","MRO","Ouguiya",353]
["Mauritius","MUR","Mauritius Rupee",35.1]
["Mayotte","EUR","Euro",0.89500000000000002]
["Mexico","MXN","Mexican Peso",18.915900000000001]
["Micronesia, Federated States of","USD","US Dollar",1]
["Moldova, Republic of","MDL","Moldovan Leu",19.68]
["Monaco","EUR","Euro",0.89500000000000002]
["Mongolia","MNT","Tugrik",2078]
["Montenegro","EUR","Euro",0.89500000000000002]
["Montserrat","XCD","East Caribbean Dollar",2.7]
["Morocco","MAD","Moroccan Dirham",9.7445000000000004]
["Mozambique","MZN","Mozambique Metical",68.63]
["Myanmar","MMK","Kyat",1181]
["Namibia","NAD","Namibia Dollar",14.018000000000001]
["Nauru","AUD","Australian Dollar",1.3171999999999999]
["Nepal","NPR","Nepalese Rupee",106.45]
["Netherlands","EUR","Euro",0.89500000000000002]
["Netherlands Antilles","ANG","Netherlands Antillean Guilder",1.77]
["New Caledonia","XPF","CFP Franc",106.15]
["New Zealand","NZD","New Zealand Dollar",1.397]
["Nicaragua","NIO","Cordoba Oro",28.35]
["Niger","XOF","CFA Franc BCEAO",586.65]
["Nigeria","NGN","Naira",320]
["Niue","NZD","New Zealand Dollar",1.397]
["Norfolk Island","AUD","Australian Dollar",1.3171999999999999]
["Northern Mariana Islands","USD","US Dollar",1]
["Norway","NOK","Norwegian Krone",8.4320000000000004]
["Oman","OMR","Omani Rial",0.38479999999999998]
["Pakistan","PKR","Pakistan Rupee",104.42]
["Palau","USD","US Dollar",1]
["Palestine, State of",null,"No universal currency",1]
["Panama","PAB","Balboa",1.0036]
["Papua New Guinea","PGK","Kina",3.1656]
["Paraguay","PYG","Guarani",5486]
["Peru","PEN","Nuevo Sol",3.3494000000000002]
["Philippines","PHP","Philippine Peso",47.06]
["Pitcairn","NZD","New Zealand Dollar",1.397]
["Poland","PLN","Zloty",3.8475999999999999]
["Portugal","EUR","Euro",0.89500000000000002]
["Puerto Rico","USD","US Dollar",1]
["Qatar","QAR","Qatari Rial",3.6415000000000002]
["Réunion","EUR","Euro",0.89500000000000002]
["Romania","RON","New Romanian Leu",3.9802]
["Russian Federation","RUB","Russian Ruble",66.287499999999994]
["Rwanda","RWF","Rwanda Franc",787.72]
["Saint Barthélemy","EUR","Euro",0.89500000000000002]
["Saint Helena, Ascension and Tristan Da Cunha","SHP","Saint Helena Pound",0.74850000000000005]
["Saint Kitts and Nevis","XCD","East Caribbean Dollar",2.7]
["Saint Lucia","XCD","East Caribbean Dollar",2.7]
["Saint Martin (French part)","EUR","Euro",0.89500000000000002]
["Saint Pierre and Miquelon","EUR","Euro",0.89500000000000002]
["Saint Vincent and The Grenadines","XCD","East Caribbean Dollar",2.7]
["Samoa","WST","Tala",2.5400999999999998]
["San Marino","EUR","Euro",0.89500000000000002]
["Sao Tome and Principe","STD","Dobra",21904]
["Saudi Arabia","SAR","Saudi Riyal",3.7498]
["Senegal","XOF","CFA Franc BCEAO",586.65]
["Serbia","RSD","Serbian Dinar",109.6429]
["Seychelles","SCR","Seychelles Rupee",13.105]
["Sierra Leone","SLL","Leone",5478]
["Singapore","SGD","Singapore Dollar",1.3420000000000001]
["Sint Maarten (Dutch part)","ANG","Netherlands Antillean Guilder",1.77]
["Slovakia","EUR","Euro",0.89500000000000002]
["Slovenia","EUR","Euro",0.89500000000000002]
["Solomon Islands","SBD","Solomon Islands Dollar",7.8468]
["Somalia","SOS","Somali Shilling",549]
["South Africa","ZAR","Rand",13.9899]
["Spain","EUR","Euro",0.89500000000000002]
["Sri Lanka","LKR","Sri Lanka Rupee",145.69999999999999]
["Sudan","SDG","Sudanese Pound",6.07]
["Suriname","SRD","Surinam Dollar",7.04]
["Svalbard and Jan Mayen","NOK","Norwegian Krone",8.4324999999999992]
["Swaziland","SZL","Lilangeni",14]
["Sweden","SEK","Swedish Krona",8.5233000000000008]
["Switzerland","CHF","Swiss Franc",0.97170000000000001]
["Syrian Arab Republic","SYP","Syrian Pound",215.2]
["Taiwan, Province of China","TWD","New Taiwan Dollar",31.681999999999999]
["Tajikistan","TJS","Somoni",7.8677999999999999]
["Tanzania, United Republic of","TZS","Tanzanian Shilling",2183]
["Thailand","THB","Baht",34.979999999999997]
["Timor-Leste","USD","US Dollar",1]
["Togo","XOF","CFA Franc BCEAO",586.65]
["Tokelau","NZD","New Zealand Dollar",1.397]
["Tonga","TOP","Pa'anga",2.2650999999999999]
["Trinidad and Tobago","TTD","Trinidad and Tobago Dollar",6.6790000000000003]
["Tunisia","TND","Tunisian Dinar",2.2067999999999999]
["Turkey","TRY","New Turkish Lira",3.0156000000000001]
["Turks and Caicos Islands","USD","US Dollar",1]
["Tuvalu","AUD","Australian Dollar",1.3171999999999999]
["Uganda","UGX","Uganda Shilling",3368]
["Ukraine","UAH","Hryvnia",24.805]
["United Arab Emirates","AED","UAE Dirham",3.6724000000000001]
["United Kingdom","GBP","Pound Sterling",0.74990000000000001]
["United States","USD","US Dollar",1]
["United States Minor Outlying Islands","USD","US Dollar",1]
["Uruguay","UYU","Peso Uruguayo",29.53]
["Uzbekistan","UZS","Uzbekistan Sum",2964]
["Vanuatu","VUV","Vatu",107]
["Venezuela, Bolivarian Republic of","VEF","Bolivar",9.9748000000000001]
["Viet Nam","VND","Dong",22300]
["Virgin Islands, British","USD","US Dollar",1]
["Virgin Islands, U.S.","USD","US Dollar",1]
["Wallis And Futuna","XPF","CFP Franc",106.15]
["Western Sahara","MAD","Moroccan Dirham",9.7372999999999994]
["Yemen","YER","Yemeni Rial",249.95]